BEGIN:VCALENDAR
VERSION:2.0
PRODID: -//Ximian//NONSGML Evolution Calendar//EN
CALSCALE:GREGORIAN
METHOD:PUBLISH
BEGIN:VEVENT
UID:69e4e0ad321e72.23999976@myapp
DTSTAMP:20260419T140325Z
DTSTART:20260222T120000Z
DTEND:20260222T133000Z
SUMMARY: Концерт «Фортепианная музыка двух эпох»
DESCRIPTION: Музей-заповедник А.С. Пушкина приглашает на концерт «Фортепианная музыка двух эпох», который пройдет в рамках концертного цикла «Музыкальные вечера в русской усадьбе» имени З.А. Игнатьевой.
LOCATION: Государственный историко-литературный музей-заповедник А.С. Пушкина, усадьба Вяземы
END:VEVENT
END:VCALENDAR
