BEGIN:VCALENDAR
VERSION:2.0
PRODID: -//Ximian//NONSGML Evolution Calendar//EN
CALSCALE:GREGORIAN
METHOD:PUBLISH
BEGIN:VEVENT
UID:69e4e2d6aeda23.71177475@myapp
DTSTAMP:20260419T141238Z
DTSTART:20260228T090000Z
DTEND:20260228T103000Z
SUMMARY: Лекция «Натурфилософия и мистика Джамбаттиста Ланджетти»
DESCRIPTION: Музей-заповедник А.С. Пушкина приглашает на лекцию «Огненный логос – натурфилософия и мистика Джамбаттиста Ланджетти», которая пройдет в рамках цикла «Беседа любителей русского слова» в Детском центре усадьбы Вяземы.
LOCATION: Государственный историко-литературный музей-заповедник А.С. Пушкина, усадьба Вяземы
END:VEVENT
END:VCALENDAR
