BEGIN:VCALENDAR
VERSION:2.0
PRODID: -//Ximian//NONSGML Evolution Calendar//EN
CALSCALE:GREGORIAN
METHOD:PUBLISH
BEGIN:VEVENT
UID:69e4dfb819c724.31658195@myapp
DTSTAMP:20260419T135920Z
DTSTART:20260228T120000Z
DTEND:20260228T133000Z
SUMMARY: Концерт «Великие фантазеры и шедевры золотых струн»
DESCRIPTION: Музей-заповедник А.С. Пушкина приглашает на концерт «Великие фантазеры и шедевры золотых струн».
LOCATION: Государственный историко-литературный музей-заповедник А.С. Пушкина, усадьба Вяземы
END:VEVENT
END:VCALENDAR
