BEGIN:VCALENDAR
VERSION:2.0
PRODID: -//Ximian//NONSGML Evolution Calendar//EN
CALSCALE:GREGORIAN
METHOD:PUBLISH
BEGIN:VEVENT
UID:69e4a6632d5c85.79740212@myapp
DTSTAMP:20260419T095443Z
DTSTART:20260222T093000Z
DTEND:20260222T120000Z
SUMMARY: Масленица в Егорьевском музее
DESCRIPTION: Егорьевский историко-художественный музей приглашает на сытный и веселый праздник, посвященный Масленице. 
LOCATION: Егорьевский историко-художественный музей
END:VEVENT
END:VCALENDAR
