BEGIN:VCALENDAR
VERSION:2.0
PRODID: -//Ximian//NONSGML Evolution Calendar//EN
CALSCALE:GREGORIAN
METHOD:PUBLISH
BEGIN:VEVENT
UID:69e4a6632d4947.89153987@myapp
DTSTAMP:20260419T095443Z
DTSTART:20260313T160000Z
DTEND:20260313T180000Z
SUMMARY: Трибьют-концерт песен Nirvana с симфоническим оркестром
DESCRIPTION: Дворец культуры Ступина приглашает на концерт «Smells Like Symphony. Nirvana Tribute c симфоническим оркестром».
LOCATION: Дворец культуры г. Ступина
END:VEVENT
END:VCALENDAR
