BEGIN:VCALENDAR
VERSION:2.0
PRODID: -//Ximian//NONSGML Evolution Calendar//EN
CALSCALE:GREGORIAN
METHOD:PUBLISH
BEGIN:VEVENT
UID:69e7ad12335d56.92256996@myapp
DTSTAMP:20260421T170002Z
DTSTART;VALUE=DATE:20260403
DTEND;VALUE=DATE:20260518
SUMMARY: Выставка Ирины Сидякиной «Мир в красках»
DESCRIPTION: Выставочный зал имени Ю.В. Карапаева в Клину приглашает на выставку живописи Ирины Сидякиной «Мир в красках».
LOCATION: Выставочный зал им. Ю.В. Карапаева
END:VEVENT
END:VCALENDAR
