BEGIN:VCALENDAR
VERSION:2.0
PRODID: -//Ximian//NONSGML Evolution Calendar//EN
CALSCALE:GREGORIAN
METHOD:PUBLISH
BEGIN:VEVENT
UID:69e7ac0949eb48.78874325@myapp
DTSTAMP:20260421T165537Z
DTSTART;VALUE=DATE:20260411
DTEND;VALUE=DATE:20260518
SUMMARY: Выставка «От сердца к сердцу» 
DESCRIPTION: В Выставочном зале им. Ю. В. Карапаева в Клину 11 апреля начнет работать персональная выставка-ретроспектива живописи и книжной графики «От сердца к сердцу» Ольги Кондратюк.
LOCATION: Выставочный зал им. Ю. В. Карапаева
END:VEVENT
END:VCALENDAR
