BEGIN:VCALENDAR
VERSION:2.0
PRODID: -//Ximian//NONSGML Evolution Calendar//EN
CALSCALE:GREGORIAN
METHOD:PUBLISH
BEGIN:VEVENT
UID:69e771e9dc6564.18661051@myapp
DTSTAMP:20260421T124737Z
DTSTART:20260423T100000Z
DTEND:20260423T190000Z
SUMMARY: Открытый фестиваль-конкурс патриотической песни «Майский ветер»
DESCRIPTION: В Котельниках 23 апреля пройдет V Открытый фестиваль-конкурс патриотической песни «Майский ветер». В мероприятии примут участие хоры, ансамбли и солисты самых разных возрастов.
LOCATION: Дом культуры «Силикат»
END:VEVENT
END:VCALENDAR
