BEGIN:VCALENDAR
VERSION:2.0
PRODID: -//Ximian//NONSGML Evolution Calendar//EN
CALSCALE:GREGORIAN
METHOD:PUBLISH
BEGIN:VEVENT
UID:69eb1743e34c44.01983302@myapp
DTSTAMP:20260424T070955Z
DTSTART;VALUE=DATE:20260411
DTEND;VALUE=DATE:20260427
SUMMARY: Выставка «По пути вдохновения: пейзажи двух художниц»
DESCRIPTION: В Выставочном зале имени Ю.В. Карапаева в Клину 11 апреля откроется выставка Татьяны Малковой и Елизаветы Михайловой «По пути вдохновения: пейзажи двух художниц».
LOCATION: Выставочный зал им. Ю.В. Карапаева
END:VEVENT
END:VCALENDAR
