BEGIN:VCALENDAR
VERSION:2.0
PRODID: -//Ximian//NONSGML Evolution Calendar//EN
CALSCALE:GREGORIAN
METHOD:PUBLISH
BEGIN:VEVENT
UID:69e9670274a779.38474443@myapp
DTSTAMP:20260423T002538Z
DTSTART;VALUE=DATE:20260401
DTEND;VALUE=DATE:20261228
SUMMARY: Экскурсия «Усадьба Захарово – колыбель поэта»
DESCRIPTION: Музей-заповедник А.С. Пушкина приглашает на экскурсию «Усадьба Захарово – колыбель поэта».
LOCATION: Государственный историко-литературный музей-заповедник А.С. Пушкина, усадьба Захарово
END:VEVENT
END:VCALENDAR
