BEGIN:VCALENDAR
VERSION:2.0
PRODID: -//Ximian//NONSGML Evolution Calendar//EN
CALSCALE:GREGORIAN
METHOD:PUBLISH
BEGIN:VEVENT
UID:69eb170ce2e196.64815348@myapp
DTSTAMP:20260424T070900Z
DTSTART;VALUE=DATE:20260406
DTEND;VALUE=DATE:20260516
SUMMARY: Выставка «Родина в сердце Героя»
DESCRIPTION: В Музее воинской славы «ZaСВОих» в Клину 6 апреля откроется масштабная передвижная выставка «Родина в сердце Героя».
LOCATION: Музей воинской славы «ZaСВОих» 
END:VEVENT
END:VCALENDAR
