BEGIN:VCALENDAR
VERSION:2.0
PRODID: -//Ximian//NONSGML Evolution Calendar//EN
CALSCALE:GREGORIAN
METHOD:PUBLISH
BEGIN:VEVENT
UID:69e7712ea48de0.08947803@myapp
DTSTAMP:20260421T124430Z
DTSTART:20260421T150000Z
DTEND:20260421T170000Z
SUMMARY: Концерт «Сияние детского творчества»
DESCRIPTION: Детская школа искусств имени В.К. Андреева приглашает зрителей на отчетный концерт «Сияние детского творчества». Коллективы и солисты музыкального отделения исполнят лучшие произведения своего репертуара, в течение года звучавшие на концертах и конкурсах. 
LOCATION: Дом культуры «Силикат»
END:VEVENT
END:VCALENDAR
