BEGIN:VCALENDAR
VERSION:2.0
PRODID: -//Ximian//NONSGML Evolution Calendar//EN
CALSCALE:GREGORIAN
METHOD:PUBLISH
BEGIN:VEVENT
UID:69e7068f785720.34816248@myapp
DTSTAMP:20260421T050935Z
DTSTART:20260425T150000Z
DTEND:20260425T170000Z
SUMMARY: Фиалковый концерт «Виолет»
DESCRIPTION: Апрель в Сенницах пахнет фиалками. Первые робкие цветы в розовато-лиловых оттенках прячутся в траве, и найти их может только тот, кто умеет замечать прекрасное в деталях. Именно таким – чутким, влюбленным в музыку и красивые мгновения – будет Фиалковый концерт «Виолет» в усадебном ресторане «Зеленый дятел».
LOCATION: Ресторан «Зеленый дятел» 
END:VEVENT
END:VCALENDAR
