BEGIN:VCALENDAR
VERSION:2.0
PRODID: -//Ximian//NONSGML Evolution Calendar//EN
CALSCALE:GREGORIAN
METHOD:PUBLISH
BEGIN:VEVENT
UID:69e7712f5b28c9.92278456@myapp
DTSTAMP:20260421T124431Z
DTSTART:20260425T080000Z
DTEND:20260425T110000Z
SUMMARY: Мероприятие «Весенняя перезагрузка» в Котельниках
DESCRIPTION: Кузьминский лесопарк в Котельниках приглашает на настоящий праздник чистоты, зелени и музыки – мероприятие «Весенняя перезагрузка».
LOCATION: Кузьминский лесопарк 
END:VEVENT
END:VCALENDAR
