BEGIN:VCALENDAR
VERSION:2.0
PRODID: -//Ximian//NONSGML Evolution Calendar//EN
CALSCALE:GREGORIAN
METHOD:PUBLISH
BEGIN:VEVENT
UID:69e8eec4639839.30903573@myapp
DTSTAMP:20260422T155236Z
DTSTART:20260423T160000Z
DTEND:20260423T180000Z
SUMMARY: Шоу-программа «История одного города»
DESCRIPTION: Театр моды и танца «Красота и изящество» и студия танца «Династия» приглашают на Отчетный концерт «История одного города».
LOCATION: Дворец культуры «Дружба»
END:VEVENT
END:VCALENDAR
