BEGIN:VCALENDAR
VERSION:2.0
PRODID: -//Ximian//NONSGML Evolution Calendar//EN
CALSCALE:GREGORIAN
METHOD:PUBLISH
BEGIN:VEVENT
UID:69e88943ddd5c1.34090696@myapp
DTSTAMP:20260422T083931Z
DTSTART:20260426T090000Z
DTEND:20260426T120000Z
SUMMARY: Праздничное мероприятие «Пасхальная радость»
DESCRIPTION: Традиционная праздничная встреча «Пасхальная радость» пройдет 26 апреля на территории Ильинского храма села Петровского.
LOCATION: Церковь Илии Пророка
END:VEVENT
END:VCALENDAR
