BEGIN:VCALENDAR
VERSION:2.0
PRODID: -//Ximian//NONSGML Evolution Calendar//EN
CALSCALE:GREGORIAN
METHOD:PUBLISH
BEGIN:VEVENT
UID:69e8eec4d43016.84256805@myapp
DTSTAMP:20260422T155236Z
DTSTART:20260426T100000Z
DTEND:20260426T120000Z
SUMMARY: Юбилейный концерт ансамбля танца «Юность»
DESCRIPTION: В преддверии Международного дня танца и в рамках акции «Танцующая весна» 26 апреля в Чехове состоится масштабный концерт, посвященный 45-летию легендарного ансамбля танца «Юность».
LOCATION: Дворец культуры «Дружба»
END:VEVENT
END:VCALENDAR
