BEGIN:VCALENDAR
VERSION:2.0
PRODID: -//Ximian//NONSGML Evolution Calendar//EN
CALSCALE:GREGORIAN
METHOD:PUBLISH
BEGIN:VEVENT
UID:69e7c457467dd0.77684612@myapp
DTSTAMP:20260421T183919Z
DTSTART:20260426T090000Z
DTEND:20260426T100000Z
SUMMARY: Спектакль «Про маленького поросенка Плюха»
DESCRIPTION: Звенигородский манеж приглашает юных зрителей на добрый спектакль, созданный по мотивам книги Э. Аттли «Про маленького поросенка Плюха».
LOCATION: Звенигородский манеж
END:VEVENT
END:VCALENDAR
