BEGIN:VCALENDAR
VERSION:2.0
PRODID: -//Ximian//NONSGML Evolution Calendar//EN
CALSCALE:GREGORIAN
METHOD:PUBLISH
BEGIN:VEVENT
UID:69e7a999a62882.54655402@myapp
DTSTAMP:20260421T164513Z
DTSTART:20260429T163000Z
DTEND:20260429T183000Z
SUMMARY: Шоу под дождем «Только для женщин»
DESCRIPTION: Шоу-спектакль под дождем «Только для женщин» Санкт-Петербургского театра танца «Искушение» покажут в Солнечногорске 29 апреля.
LOCATION: Культурно-досуговый центр «Тимоново» 
END:VEVENT
END:VCALENDAR
