BEGIN:VCALENDAR
VERSION:2.0
PRODID: -//Ximian//NONSGML Evolution Calendar//EN
CALSCALE:GREGORIAN
METHOD:PUBLISH
BEGIN:VEVENT
UID:69e7891e74c995.38170755@myapp
DTSTAMP:20260421T142638Z
DTSTART;VALUE=DATE:20260417
DTEND;VALUE=DATE:20260708
SUMMARY: Выставка «Изразцовый жар царских печей»
DESCRIPTION: Музей-заповедник «Дмитровский кремль» приглашает посетить уникальную выставку «Изразцовый жар царских печей».
LOCATION: Музей-заповедник «Дмитровский кремль» (Музейно-выставочный комплекс)
END:VEVENT
END:VCALENDAR
