BEGIN:VCALENDAR
VERSION:2.0
PRODID: -//Ximian//NONSGML Evolution Calendar//EN
CALSCALE:GREGORIAN
METHOD:PUBLISH
BEGIN:VEVENT
UID:69e77fecd96247.15326338@myapp
DTSTAMP:20260421T134724Z
DTSTART;VALUE=DATE:20260411
DTEND;VALUE=DATE:20260622
SUMMARY: Выставка «Занимательное путешествие по Евразии»
DESCRIPTION: В музейном комплексе «Конный двор» Сергиево-Посадского музея-заповедника проходит выставка «Занимательное путешествие по Евразии: исторические костюмы и народные типы в западноевропейской и русской гравюре XVIII-XIX века».
LOCATION: Сергиево-Посадский государственный историко-художественный музей-заповедник, Музейный комплекс «Конный двор»
END:VEVENT
END:VCALENDAR
