BEGIN:VCALENDAR
VERSION:2.0
PRODID: -//Ximian//NONSGML Evolution Calendar//EN
CALSCALE:GREGORIAN
METHOD:PUBLISH
BEGIN:VEVENT
UID:69e78d8bdb6d68.73431445@myapp
DTSTAMP:20260421T144531Z
DTSTART;VALUE=DATE:20260321
DTEND;VALUE=DATE:20270101
SUMMARY: Фотовыставка «Улица говорит»
DESCRIPTION: Музей-заповедник «Дмитровский кремль» приглашает на фотовыставку «Улица говорит». В этом проекте – никакой постановки. Только жизнь. Честная, спонтанная, документальная.
END:VEVENT
END:VCALENDAR
