BEGIN:VCALENDAR
VERSION:2.0
PRODID: -//Ximian//NONSGML Evolution Calendar//EN
CALSCALE:GREGORIAN
METHOD:PUBLISH
BEGIN:VEVENT
UID:69eaa23c20f236.08415120@myapp
DTSTAMP:20260423T225036Z
DTSTART:20260423T143000Z
DTEND:20260423T163000Z
SUMMARY: Спектакль «Онегин и двое из 9Б»
DESCRIPTION: Петровский Дом культуры приглашает на спектакль «Онегин и двое из 9Б».
LOCATION: Петровский Дом культуры
END:VEVENT
END:VCALENDAR
