BEGIN:VCALENDAR
VERSION:2.0
PRODID: -//Ximian//NONSGML Evolution Calendar//EN
CALSCALE:GREGORIAN
METHOD:PUBLISH
BEGIN:VEVENT
UID:69e9630ac2a1b3.45967337@myapp
DTSTAMP:20260423T000842Z
DTSTART:20260503T090000Z
DTEND:20260503T103000Z
SUMMARY: Занятие «В.И. Даль – собиратель и хранитель народной мудрости»
DESCRIPTION: В усадьбе Вяземы состоится занятие, посвященное великому гражданину России, собирателю и хранителю фольклорного достояния русского народа, записавшему и сохранившему в XIX веке большинство ныне известных нам русских сказок, Владимиру Ивановичу Далю.
LOCATION: Государственный историко-литературный музей-заповедник А.С. Пушкина, усадьба Вяземы
END:VEVENT
END:VCALENDAR
