BEGIN:VCALENDAR
VERSION:2.0
PRODID: -//Ximian//NONSGML Evolution Calendar//EN
CALSCALE:GREGORIAN
METHOD:PUBLISH
BEGIN:VEVENT
UID:69e8cd0596c186.10383657@myapp
DTSTAMP:20260422T132837Z
DTSTART;VALUE=DATE:20260425
DTEND;VALUE=DATE:20260427
SUMMARY: Конкурс театрального искусства «Театральная весна Подмосковья»
DESCRIPTION: В Щелкове 25-26 апреля пройдет Областной конкурс театрального искусства «Театральная весна Подмосковья».
LOCATION: Театрально-концертный центр «Щелковский театр»
END:VEVENT
END:VCALENDAR
