BEGIN:VCALENDAR
VERSION:2.0
PRODID: -//Ximian//NONSGML Evolution Calendar//EN
CALSCALE:GREGORIAN
METHOD:PUBLISH
BEGIN:VEVENT
UID:69e8ccfbee1c33.54350833@myapp
DTSTAMP:20260422T132827Z
DTSTART:20260501T150000Z
DTEND:20260501T170000Z
SUMMARY: Спектакль «В горе и в радости»
DESCRIPTION: Щелковский театра приглашает на премьеру спектакля «В горе и в радости». Это мистическая комедия по пьесе Екатерины Прилепской в постановке режиссера Светланы Погодиной, которая ломает представления о привычных жанрах: мистика здесь соседствует с искренним смехом, а драма — с надеждой.
LOCATION: Театрально-концертный центр «Щелковский театр»
END:VEVENT
END:VCALENDAR
