BEGIN:VCALENDAR
VERSION:2.0
PRODID: -//Ximian//NONSGML Evolution Calendar//EN
CALSCALE:GREGORIAN
METHOD:PUBLISH
BEGIN:VEVENT
UID:69e8ccfb9da334.76523036@myapp
DTSTAMP:20260422T132827Z
DTSTART:20260502T150000Z
DTEND:20260502T170000Z
SUMMARY: Спектакль «Женитьба»
DESCRIPTION: Театрально-концертный центр «Щелковский театр» приглашает на спектакль «Женитьба» режиссера Светланы Погодиной по мотивам одноименной комедии Н.В. Гоголя.
LOCATION: Театрально-концертный центр «Щелковский театр»
END:VEVENT
END:VCALENDAR
