BEGIN:VCALENDAR
VERSION:2.0
PRODID: -//Ximian//NONSGML Evolution Calendar//EN
CALSCALE:GREGORIAN
METHOD:PUBLISH
BEGIN:VEVENT
UID:69e8ccfb416e32.37124718@myapp
DTSTAMP:20260422T132827Z
DTSTART:20260503T130000Z
DTEND:20260503T140000Z
SUMMARY: Спектакль «Братец Лис и Братец Кролик»
DESCRIPTION: Щелковский театр представляет веселый интерактивный спектакль «Братец Лис и Братец Кролик».
LOCATION: Театрально-концертный центр «Щелковский театр»
END:VEVENT
END:VCALENDAR
