BEGIN:VCALENDAR
VERSION:2.0
PRODID: -//Ximian//NONSGML Evolution Calendar//EN
CALSCALE:GREGORIAN
METHOD:PUBLISH
BEGIN:VEVENT
UID:69eaa0e201fa84.99876449@myapp
DTSTAMP:20260423T224450Z
DTSTART:20260425T070000Z
DTEND:20260425T100000Z
SUMMARY: Мероприятие «Весенняя перезагрузка» в Шатуре
DESCRIPTION:  Парк имени Ю.А. Гагарина в Шатуре приглашает на настоящий праздник чистоты, зелени и музыки – мероприятие «Весенняя перезагрузка».
LOCATION: Парк имени Ю.А. Гагарина
END:VEVENT
END:VCALENDAR
