BEGIN:VCALENDAR
VERSION:2.0
PRODID: -//Ximian//NONSGML Evolution Calendar//EN
CALSCALE:GREGORIAN
METHOD:PUBLISH
BEGIN:VEVENT
UID:69ea402dd17405.89474339@myapp
DTSTAMP:20260423T155213Z
DTSTART:20260510T090000Z
DTEND:20260510T103000Z
SUMMARY: Занятие «Как письмена устроились»
DESCRIPTION: Музей-заповедник А.С. Пушкина приглашает на занятие «Как письмена устроились», посвященное роли великих просветителей славян, святых равноапостольных Кирилла и Мефодия в формировании и становлении русской письменности.
LOCATION: Государственный историко-литературный музей-заповедник А.С. Пушкина, усадьба Вяземы
END:VEVENT
END:VCALENDAR
