BEGIN:VCALENDAR
VERSION:2.0
PRODID: -//Ximian//NONSGML Evolution Calendar//EN
CALSCALE:GREGORIAN
METHOD:PUBLISH
BEGIN:VEVENT
UID:69ea4e55417a79.12838032@myapp
DTSTAMP:20260423T165237Z
DTSTART;VALUE=DATE:20260503
DTEND;VALUE=DATE:20260530
SUMMARY: Спектакль-игра «Дворцовые интриги»
DESCRIPTION: Щелковский театр приглашает на уникальный интерактивный спектакль «Дворцовые интриги». Вас ждет не просто представление, а увлекательная игра, в которой у каждого участника будет своя роль! И, возможно, самая главная...
LOCATION: Театрально-концертный центр «Щелковский театр»
END:VEVENT
END:VCALENDAR
