BEGIN:VCALENDAR
VERSION:2.0
PRODID: -//Ximian//NONSGML Evolution Calendar//EN
CALSCALE:GREGORIAN
METHOD:PUBLISH
BEGIN:VEVENT
UID:69ec22d5403f68.89423048@myapp
DTSTAMP:20260425T021133Z
DTSTART;VALUE=DATE:20260501
DTEND;VALUE=DATE:20260504
SUMMARY: «Завтрак на траве» по мотивам творчества Клода Моне
DESCRIPTION: Усадебный ресторан «Зеленый дятел» приглашает на весенний пикник, вдохновленный жизнью и кухней Клода Моне – художника, который говорил: «Хорошая еда и хороший сад – два удовольствия, которые никогда не утомляют».
LOCATION: Ресторан «Зеленый дятел»
END:VEVENT
END:VCALENDAR
