BEGIN:VCALENDAR
VERSION:2.0
PRODID: -//Ximian//NONSGML Evolution Calendar//EN
CALSCALE:GREGORIAN
METHOD:PUBLISH
BEGIN:VEVENT
UID:69ec1e3a5f8740.84644991@myapp
DTSTAMP:20260425T015154Z
DTSTART;VALUE=DATE:20260505
DTEND;VALUE=DATE:20260516
SUMMARY: Выставка «Китель Победы»
DESCRIPTION: Выставка «Китель Победы» пройдет с 5 по 15 мая в Выставочном зале имени Ю.В. Карапаева в Клину. 
LOCATION: Выставочный зал им. Ю.В. Карапаева
END:VEVENT
END:VCALENDAR
