BEGIN:VCALENDAR
VERSION:2.0
PRODID: -//Ximian//NONSGML Evolution Calendar//EN
CALSCALE:GREGORIAN
METHOD:PUBLISH
BEGIN:VEVENT
UID:69ebaac9ba0162.84244633@myapp
DTSTAMP:20260424T173921Z
DTSTART:20260425T080000Z
DTEND:20260425T120000Z
SUMMARY: Мероприятие «Весенняя перезагрузка» в парках Пушкино
DESCRIPTION: Центральный парк культуры и отдыха г. Пушкино и парк «Серебрянка» приглашают на общеобластное мероприятие «Весенняя перезагрузка».
LOCATION: Центральный парк культуры и отдыха г. Пушкино, парк «Серебрянка» 
END:VEVENT
BEGIN:VEVENT
UID:69ebaac9ba02a6.28714219@myapp
DTSTAMP:20260424T173921Z
DTSTART:20260425T120000Z
DTEND:20260425T160000Z
SUMMARY: Мероприятие «Весенняя перезагрузка» в парках Пушкино
DESCRIPTION: Центральный парк культуры и отдыха г. Пушкино и парк «Серебрянка» приглашают на общеобластное мероприятие «Весенняя перезагрузка».
LOCATION: Центральный парк культуры и отдыха г. Пушкино, парк «Серебрянка» 
END:VEVENT
END:VCALENDAR
