BEGIN:VCALENDAR
VERSION:2.0
PRODID: -//Ximian//NONSGML Evolution Calendar//EN
CALSCALE:GREGORIAN
METHOD:PUBLISH
BEGIN:VEVENT
UID:69eb953b2268e6.04102300@myapp
DTSTAMP:20260424T160723Z
DTSTART:20260425T080000Z
DTEND:20260425T130000Z
SUMMARY: Мероприятие «Весенняя перезагрузка» в Ивантеевке
DESCRIPTION: Городской парк культуры и отдыха г. Ивантеевки приглашает на общеобластное мероприятие «Весенняя перезагрузка».
LOCATION: Городской парк культуры и отдыха «Ивантеевка»
END:VEVENT
END:VCALENDAR
