BEGIN:VCALENDAR
VERSION:2.0
PRODID: -//Ximian//NONSGML Evolution Calendar//EN
CALSCALE:GREGORIAN
METHOD:PUBLISH
BEGIN:VEVENT
UID:69e4fcc30a3939.74544889@myapp
DTSTAMP:20260419T160315Z
DTSTART:20220625T120000Z
DTEND:20220625T140000Z
SUMMARY: Концерт «Дачные сезоны»
DESCRIPTION: Талдомский историко-литературный музей приглашает посетить концерт «Дачные сезоны», который состоится 25 июня.
LOCATION: Талдомский историко-литературный музей
END:VEVENT
END:VCALENDAR
