BEGIN:VCALENDAR
VERSION:2.0
PRODID: -//Ximian//NONSGML Evolution Calendar//EN
CALSCALE:GREGORIAN
METHOD:PUBLISH
BEGIN:VEVENT
UID:69e95775888e87.80124283@myapp
DTSTAMP:20260422T231917Z
DTSTART:20220625T150000Z
DTEND:20220625T170000Z
SUMMARY: Показ фильма «Легенда о русалке»
DESCRIPTION: В центральной библиотеке имени Д. Кедрина города Мытищи 25 июня пройдет показ фильма «Легенда о русалке».
LOCATION: Центральная библиотека имени Д. Кедрина
END:VEVENT
END:VCALENDAR
