BEGIN:VCALENDAR
VERSION:2.0
PRODID: -//Ximian//NONSGML Evolution Calendar//EN
CALSCALE:GREGORIAN
METHOD:PUBLISH
BEGIN:VEVENT
UID:69ecdf0c12ade2.83646968@myapp
DTSTAMP:20260425T153436Z
DTSTART;VALUE=DATE:20210220
DTEND;VALUE=DATE:20220124
SUMMARY: Выставка «Николай Андреев. Образ фотохудожника»
DESCRIPTION: Серпуховский историко-художественный музей  приглашает жителей и гостей города посетить выставку «Николай Андреев. Образ фотохудожника». В экспозиции представлены работы выдающегося фотографа XX века – это пейзажи, сценки  из  крестьянской  жизни, портреты.
LOCATION: Серпуховский историко-художественный музей  
END:VEVENT
END:VCALENDAR
