BEGIN:VCALENDAR
VERSION:2.0
PRODID: -//Ximian//NONSGML Evolution Calendar//EN
CALSCALE:GREGORIAN
METHOD:PUBLISH
BEGIN:VEVENT
UID:69e6f236cd94b3.78552576@myapp
DTSTAMP:20260421T034246Z
DTSTART;VALUE=DATE:20221013
DTEND;VALUE=DATE:20221102
SUMMARY: Выставка «Нурлан Усманов. Резная мелодия Кавказа»
DESCRIPTION: Произведения декоративно-прикладного искусства будут представлены в музее-заповеднике «Абрамцево» с 13 октября по 1 ноября.
LOCATION: Государственный историко-художественный и литературный музей-заповедник «Абрамцево»
END:VEVENT
END:VCALENDAR
