BEGIN:VCALENDAR
VERSION:2.0
PRODID: -//Ximian//NONSGML Evolution Calendar//EN
CALSCALE:GREGORIAN
METHOD:PUBLISH
BEGIN:VEVENT
UID:69eb2a5c1e21b7.14052564@myapp
DTSTAMP:20260424T083124Z
DTSTART;VALUE=DATE:20221101
DTEND;VALUE=DATE:20221126
SUMMARY: Выставка «Краски жизни через творчество»
DESCRIPTION: В Орехово-Зуевском историко-краеведческом музее 1 ноября открывается выставка «Краски жизни через творчество», на которой будут представлены работы Сергея Труханова.
LOCATION: Орехово-Зуевский городской историко-краеведческий музей
END:VEVENT
END:VCALENDAR
