BEGIN:VCALENDAR
VERSION:2.0
PRODID: -//Ximian//NONSGML Evolution Calendar//EN
CALSCALE:GREGORIAN
METHOD:PUBLISH
BEGIN:VEVENT
UID:69eb6fe23f5680.03991490@myapp
DTSTAMP:20260424T132802Z
DTSTART:20221127T090000Z
DTEND:20221127T110000Z
SUMMARY: Шоу ростовых кукол «Щенки-спасатели»
DESCRIPTION: Юные зрители увидят представление 27 ноября.


LOCATION: Центральный дворец культуры городского округа Щелково
END:VEVENT
END:VCALENDAR
