BEGIN:VCALENDAR
VERSION:2.0
PRODID: -//Ximian//NONSGML Evolution Calendar//EN
CALSCALE:GREGORIAN
METHOD:PUBLISH
BEGIN:VEVENT
UID:69e5d00c43d2e5.08282437@myapp
DTSTAMP:20260420T070444Z
DTSTART:20230106T090000Z
DTEND:20230106T110000Z
SUMMARY: Цирковая сказка «Новогодний переполох»
DESCRIPTION: Зимнее приключение с любимыми сказочными персонажами ожидает ребят на цирковой сказке «Новогодний переполох», которую покажут в Центральном дворце культуры города Щелково.
LOCATION: Центральный дворец культуры городского округа Щелково
END:VEVENT
END:VCALENDAR
