BEGIN:VCALENDAR
VERSION:2.0
PRODID: -//Ximian//NONSGML Evolution Calendar//EN
CALSCALE:GREGORIAN
METHOD:PUBLISH
BEGIN:VEVENT
UID:69eabd44929a49.14544858@myapp
DTSTAMP:20260424T004556Z
DTSTART;VALUE=DATE:20221209
DTEND;VALUE=DATE:20230731
SUMMARY: Выставка «Под знаком Рубенса. Фламандская живопись XVII века»
DESCRIPTION: Произведения известных мастеров эпохи расцвета фламандского искусства будут представлены в музее «Новый Иерусалим».
LOCATION: Государственный историко-художественный музей «Новый Иерусалим»
END:VEVENT
END:VCALENDAR
