BEGIN:VCALENDAR
VERSION:2.0
PRODID: -//Ximian//NONSGML Evolution Calendar//EN
CALSCALE:GREGORIAN
METHOD:PUBLISH
BEGIN:VEVENT
UID:69ea3145ca5924.26579445@myapp
DTSTAMP:20260423T144837Z
DTSTART:20230103T140000Z
DTEND:20230103T150000Z
SUMMARY: Цирковое шоу «Как лиса Алиса и кот Базилио Новый год встречали»
DESCRIPTION: Веселое и яркое шоу с любимыми персонажами и Дедом Морозом проведут в центре народного творчества и досуга «Лепсе».
LOCATION: Центр народного творчества и досуга «Лепсе»
END:VEVENT
END:VCALENDAR
