BEGIN:VCALENDAR
VERSION:2.0
PRODID: -//Ximian//NONSGML Evolution Calendar//EN
CALSCALE:GREGORIAN
METHOD:PUBLISH
BEGIN:VEVENT
UID:69e943f5c55688.74288720@myapp
DTSTAMP:20260422T215605Z
DTSTART:20221224T140000Z
DTEND:20221224T170000Z
SUMMARY: Открытие зимнего фестиваля «Наша зима»
DESCRIPTION: Мероприятие состоится 24 декабря в парке «Патриот».
LOCATION: Парк «Патриот»
END:VEVENT
END:VCALENDAR
