BEGIN:VCALENDAR
VERSION:2.0
PRODID: -//Ximian//NONSGML Evolution Calendar//EN
CALSCALE:GREGORIAN
METHOD:PUBLISH
BEGIN:VEVENT
UID:69ecb11ccdf726.52119701@myapp
DTSTAMP:20260425T121836Z
DTSTART;VALUE=DATE:20210424
DTEND;VALUE=DATE:20210425
SUMMARY: Библионочь-2021 в Талдомском городском округе
DESCRIPTION: 24 апреля для жителей и гостей города организуют выставки, лекции и мастер-классы.
LOCATION: Центральная библиотека Талдомского городского округа
END:VEVENT
END:VCALENDAR
