BEGIN:VCALENDAR
VERSION:2.0
PRODID: -//Ximian//NONSGML Evolution Calendar//EN
CALSCALE:GREGORIAN
METHOD:PUBLISH
BEGIN:VEVENT
UID:69e72fe30304c0.97982287@myapp
DTSTAMP:20260421T080555Z
DTSTART;VALUE=DATE:20230114
DTEND;VALUE=DATE:20230116
SUMMARY: Мастер-классы в керамической мастерской «Кружка добра»
DESCRIPTION: Мастерская «Кружка добра» в Коломне приглашает жителей и гостей города на увлекательные мастер-классы, где вы сможете под руководством преподавателя своими руками создать керамическое изделие.
LOCATION: Гончарная мастерская «Кружка добра» 
END:VEVENT
BEGIN:VEVENT
UID:69e72fe3030592.08966534@myapp
DTSTAMP:20260421T080555Z
DTSTART;VALUE=DATE:20230121
DTEND;VALUE=DATE:20230123
SUMMARY: Мастер-классы в керамической мастерской «Кружка добра»
DESCRIPTION: Мастерская «Кружка добра» в Коломне приглашает жителей и гостей города на увлекательные мастер-классы, где вы сможете под руководством преподавателя своими руками создать керамическое изделие.
LOCATION: Гончарная мастерская «Кружка добра» 
END:VEVENT
BEGIN:VEVENT
UID:69e72fe30305f5.52919667@myapp
DTSTAMP:20260421T080555Z
DTSTART;VALUE=DATE:20230128
DTEND;VALUE=DATE:20230130
SUMMARY: Мастер-классы в керамической мастерской «Кружка добра»
DESCRIPTION: Мастерская «Кружка добра» в Коломне приглашает жителей и гостей города на увлекательные мастер-классы, где вы сможете под руководством преподавателя своими руками создать керамическое изделие.
LOCATION: Гончарная мастерская «Кружка добра» 
END:VEVENT
END:VCALENDAR
