BEGIN:VCALENDAR
VERSION:2.0
PRODID: -//Ximian//NONSGML Evolution Calendar//EN
CALSCALE:GREGORIAN
METHOD:PUBLISH
BEGIN:VEVENT
UID:69eb5515038e68.51681396@myapp
DTSTAMP:20260424T113341Z
DTSTART:20230217T110000Z
DTEND:20230217T140000Z
SUMMARY: «Горячая точка, время выбрало их»
DESCRIPTION: Мероприятие посвящено торжественному чествованию ветеранов боевых действий в Афганистане, Чечне, Сирии и Ираке.
LOCATION: Культурно-досуговый центр «Дементьевский»
END:VEVENT
END:VCALENDAR
