BEGIN:VCALENDAR
VERSION:2.0
PRODID: -//Ximian//NONSGML Evolution Calendar//EN
CALSCALE:GREGORIAN
METHOD:PUBLISH
BEGIN:VEVENT
UID:69eb5d74057d30.54061262@myapp
DTSTAMP:20260424T120924Z
DTSTART:20230205T150000Z
DTEND:20230205T170000Z
SUMMARY: Цикл спектаклей «Фрида Кало: «Дерево надежды, стой прямо!» 
DESCRIPTION: Постановку покажут на Камерной сцене театра «Галатея».
LOCATION: Театр «Галатея»
END:VEVENT
BEGIN:VEVENT
UID:69eb5d74057e67.73001532@myapp
DTSTAMP:20260424T120924Z
DTSTART:20230219T150000Z
DTEND:20230219T170000Z
SUMMARY: Цикл спектаклей «Фрида Кало: «Дерево надежды, стой прямо!» 
DESCRIPTION: Постановку покажут на Камерной сцене театра «Галатея».
LOCATION: Театр «Галатея»
END:VEVENT
BEGIN:VEVENT
UID:69eb5d74057f18.41509290@myapp
DTSTAMP:20260424T120924Z
DTSTART:20230226T150000Z
DTEND:20230226T170000Z
SUMMARY: Цикл спектаклей «Фрида Кало: «Дерево надежды, стой прямо!» 
DESCRIPTION: Постановку покажут на Камерной сцене театра «Галатея».
LOCATION: Театр «Галатея»
END:VEVENT
END:VCALENDAR
