BEGIN:VCALENDAR
VERSION:2.0
PRODID: -//Ximian//NONSGML Evolution Calendar//EN
CALSCALE:GREGORIAN
METHOD:PUBLISH
BEGIN:VEVENT
UID:69eb9d6c2b6317.66709502@myapp
DTSTAMP:20260424T164220Z
DTSTART:20230219T130000Z
DTEND:20230219T150000Z
SUMMARY: Концерт «Судьба и Родина – едины!»
DESCRIPTION: Защитникам Отечества, ветеранам и труженикам тыла посвящается праздничный концерт «Судьба и Родина – едины!», который пройдет в Щелковском театре 19 февраля.
LOCATION: Театрально-концертный центр «Щелковский театр»
END:VEVENT
END:VCALENDAR
